BEGIN:VCALENDAR
VERSION:2.0
PRODID:-//Buergerverein - ECPv6.15.20//NONSGML v1.0//EN
CALSCALE:GREGORIAN
METHOD:PUBLISH
X-ORIGINAL-URL:https://buergerverein-bornholte.de
X-WR-CALDESC:Veranstaltungen für Buergerverein
REFRESH-INTERVAL;VALUE=DURATION:PT1H
X-Robots-Tag:noindex
X-PUBLISHED-TTL:PT1H
BEGIN:VTIMEZONE
TZID:Europe/Berlin
BEGIN:DAYLIGHT
TZOFFSETFROM:+0100
TZOFFSETTO:+0200
TZNAME:CEST
DTSTART:20250330T010000
END:DAYLIGHT
BEGIN:STANDARD
TZOFFSETFROM:+0200
TZOFFSETTO:+0100
TZNAME:CET
DTSTART:20251026T010000
END:STANDARD
BEGIN:DAYLIGHT
TZOFFSETFROM:+0100
TZOFFSETTO:+0200
TZNAME:CEST
DTSTART:20260329T010000
END:DAYLIGHT
BEGIN:STANDARD
TZOFFSETFROM:+0200
TZOFFSETTO:+0100
TZNAME:CET
DTSTART:20261025T010000
END:STANDARD
BEGIN:DAYLIGHT
TZOFFSETFROM:+0100
TZOFFSETTO:+0200
TZNAME:CEST
DTSTART:20270328T010000
END:DAYLIGHT
BEGIN:STANDARD
TZOFFSETFROM:+0200
TZOFFSETTO:+0100
TZNAME:CET
DTSTART:20271031T010000
END:STANDARD
END:VTIMEZONE
BEGIN:VEVENT
DTSTART;VALUE=DATE:20260110
DTEND;VALUE=DATE:20260111
DTSTAMP:20260421T210419
CREATED:20251111T200834Z
LAST-MODIFIED:20251111T200834Z
UID:1143-1768003200-1768089599@buergerverein-bornholte.de
SUMMARY:Private Veranstaltung
DESCRIPTION:
URL:https://buergerverein-bornholte.de/veranstaltung/private-veranstaltung-64/
END:VEVENT
BEGIN:VEVENT
DTSTART;VALUE=DATE:20260116
DTEND;VALUE=DATE:20260117
DTSTAMP:20260421T210419
CREATED:20250617T134200Z
LAST-MODIFIED:20250617T134200Z
UID:1082-1768521600-1768607999@buergerverein-bornholte.de
SUMMARY:Private Veranstaltung
DESCRIPTION:
URL:https://buergerverein-bornholte.de/veranstaltung/private-veranstaltung-50/
END:VEVENT
BEGIN:VEVENT
DTSTART;TZID=Europe/Berlin:20260118T110000
DTEND;TZID=Europe/Berlin:20260118T130000
DTSTAMP:20260421T210419
CREATED:20251213T085422Z
LAST-MODIFIED:20251213T085422Z
UID:1212-1768734000-1768741200@buergerverein-bornholte.de
SUMMARY:Puppentheater
DESCRIPTION:
URL:https://buergerverein-bornholte.de/veranstaltung/puppentheater/
CATEGORIES:Intern
END:VEVENT
BEGIN:VEVENT
DTSTART;VALUE=DATE:20260124
DTEND;VALUE=DATE:20260125
DTSTAMP:20260421T210419
CREATED:20250804T170039Z
LAST-MODIFIED:20250804T170039Z
UID:1117-1769212800-1769299199@buergerverein-bornholte.de
SUMMARY:Private Veranstaltung
DESCRIPTION:
URL:https://buergerverein-bornholte.de/veranstaltung/private-veranstaltung-59/
END:VEVENT
BEGIN:VEVENT
DTSTART;VALUE=DATE:20260131
DTEND;VALUE=DATE:20260201
DTSTAMP:20260421T210419
CREATED:20251118T172918Z
LAST-MODIFIED:20251118T172918Z
UID:1191-1769817600-1769903999@buergerverein-bornholte.de
SUMMARY:Private Veranstaltung
DESCRIPTION:
URL:https://buergerverein-bornholte.de/veranstaltung/private-veranstaltung-53/
END:VEVENT
END:VCALENDAR