BEGIN:VCALENDAR
VERSION:2.0
PRODID:-//Buergerverein - ECPv6.15.20//NONSGML v1.0//EN
CALSCALE:GREGORIAN
METHOD:PUBLISH
X-WR-CALNAME:Buergerverein
X-ORIGINAL-URL:https://buergerverein-bornholte.de
X-WR-CALDESC:Veranstaltungen für Buergerverein
REFRESH-INTERVAL;VALUE=DURATION:PT1H
X-Robots-Tag:noindex
X-PUBLISHED-TTL:PT1H
BEGIN:VTIMEZONE
TZID:Europe/Berlin
BEGIN:DAYLIGHT
TZOFFSETFROM:+0100
TZOFFSETTO:+0200
TZNAME:CEST
DTSTART:20240331T010000
END:DAYLIGHT
BEGIN:STANDARD
TZOFFSETFROM:+0200
TZOFFSETTO:+0100
TZNAME:CET
DTSTART:20241027T010000
END:STANDARD
BEGIN:DAYLIGHT
TZOFFSETFROM:+0100
TZOFFSETTO:+0200
TZNAME:CEST
DTSTART:20250330T010000
END:DAYLIGHT
BEGIN:STANDARD
TZOFFSETFROM:+0200
TZOFFSETTO:+0100
TZNAME:CET
DTSTART:20251026T010000
END:STANDARD
BEGIN:DAYLIGHT
TZOFFSETFROM:+0100
TZOFFSETTO:+0200
TZNAME:CEST
DTSTART:20260329T010000
END:DAYLIGHT
BEGIN:STANDARD
TZOFFSETFROM:+0200
TZOFFSETTO:+0100
TZNAME:CET
DTSTART:20261025T010000
END:STANDARD
END:VTIMEZONE
BEGIN:VEVENT
DTSTART;VALUE=DATE:20251206
DTEND;VALUE=DATE:20251207
DTSTAMP:20260421T224443
CREATED:20250114T123224Z
LAST-MODIFIED:20250114T123224Z
UID:906-1764979200-1765065599@buergerverein-bornholte.de
SUMMARY:Private Veranstaltung
DESCRIPTION:
URL:https://buergerverein-bornholte.de/veranstaltung/private-veranstaltung-41/
END:VEVENT
BEGIN:VEVENT
DTSTART;VALUE=DATE:20251214
DTEND;VALUE=DATE:20251215
DTSTAMP:20260421T224443
CREATED:20241020T152139Z
LAST-MODIFIED:20250210T104159Z
UID:784-1765670400-1765756799@buergerverein-bornholte.de
SUMMARY:Private Veranstaltung
DESCRIPTION:
URL:https://buergerverein-bornholte.de/veranstaltung/private-veranstaltung-35/
END:VEVENT
BEGIN:VEVENT
DTSTART;VALUE=DATE:20251221
DTEND;VALUE=DATE:20251222
DTSTAMP:20260421T224443
CREATED:20251026T175204Z
LAST-MODIFIED:20251026T175204Z
UID:1138-1766275200-1766361599@buergerverein-bornholte.de
SUMMARY:Familienkino
DESCRIPTION:
URL:https://buergerverein-bornholte.de/veranstaltung/familienkino/
CATEGORIES:Intern
END:VEVENT
BEGIN:VEVENT
DTSTART;TZID=Europe/Berlin:20251224T163000
DTEND;TZID=Europe/Berlin:20251224T180000
DTSTAMP:20260421T224443
CREATED:20250317T103343Z
LAST-MODIFIED:20251122T083217Z
UID:1018-1766593800-1766599200@buergerverein-bornholte.de
SUMMARY:Evangelischer Gottesdienst mit Krippenmusical
DESCRIPTION:
URL:https://buergerverein-bornholte.de/veranstaltung/evangelischer-gottesdienst-pastor-hoffmann/
CATEGORIES:Intern
END:VEVENT
BEGIN:VEVENT
DTSTART;VALUE=DATE:20251227
DTEND;VALUE=DATE:20251229
DTSTAMP:20260421T224443
CREATED:20250713T071802Z
LAST-MODIFIED:20250713T071802Z
UID:1099-1766793600-1766966399@buergerverein-bornholte.de
SUMMARY:Private Veranstaltung
DESCRIPTION:
URL:https://buergerverein-bornholte.de/veranstaltung/private-veranstaltung-54/
END:VEVENT
BEGIN:VEVENT
DTSTART;VALUE=DATE:20251231
DTEND;VALUE=DATE:20260101
DTSTAMP:20260421T224443
CREATED:20251111T205355Z
LAST-MODIFIED:20251111T205355Z
UID:1188-1767139200-1767225599@buergerverein-bornholte.de
SUMMARY:Private Veranstaltung
DESCRIPTION:
URL:https://buergerverein-bornholte.de/veranstaltung/private-veranstaltung-66/
END:VEVENT
END:VCALENDAR