BEGIN:VCALENDAR
VERSION:2.0
PRODID:-//Buergerverein - ECPv6.15.20//NONSGML v1.0//EN
CALSCALE:GREGORIAN
METHOD:PUBLISH
X-WR-CALNAME:Buergerverein
X-ORIGINAL-URL:https://buergerverein-bornholte.de
X-WR-CALDESC:Veranstaltungen für Buergerverein
REFRESH-INTERVAL;VALUE=DURATION:PT1H
X-Robots-Tag:noindex
X-PUBLISHED-TTL:PT1H
BEGIN:VTIMEZONE
TZID:Europe/Berlin
BEGIN:DAYLIGHT
TZOFFSETFROM:+0100
TZOFFSETTO:+0200
TZNAME:CEST
DTSTART:20240331T010000
END:DAYLIGHT
BEGIN:STANDARD
TZOFFSETFROM:+0200
TZOFFSETTO:+0100
TZNAME:CET
DTSTART:20241027T010000
END:STANDARD
BEGIN:DAYLIGHT
TZOFFSETFROM:+0100
TZOFFSETTO:+0200
TZNAME:CEST
DTSTART:20250330T010000
END:DAYLIGHT
BEGIN:STANDARD
TZOFFSETFROM:+0200
TZOFFSETTO:+0100
TZNAME:CET
DTSTART:20251026T010000
END:STANDARD
BEGIN:DAYLIGHT
TZOFFSETFROM:+0100
TZOFFSETTO:+0200
TZNAME:CEST
DTSTART:20260329T010000
END:DAYLIGHT
BEGIN:STANDARD
TZOFFSETFROM:+0200
TZOFFSETTO:+0100
TZNAME:CET
DTSTART:20261025T010000
END:STANDARD
END:VTIMEZONE
BEGIN:VEVENT
DTSTART;VALUE=DATE:20251110
DTEND;VALUE=DATE:20251111
DTSTAMP:20260422T002616
CREATED:20250303T114212Z
LAST-MODIFIED:20250303T114216Z
UID:1010-1762732800-1762819199@buergerverein-bornholte.de
SUMMARY:St. Martinsumzug
DESCRIPTION:
URL:https://buergerverein-bornholte.de/veranstaltung/st-martinsumzug/
CATEGORIES:Intern
END:VEVENT
BEGIN:VEVENT
DTSTART;VALUE=DATE:20251115
DTEND;VALUE=DATE:20251116
DTSTAMP:20260422T002616
CREATED:20250910T221209Z
LAST-MODIFIED:20250910T221209Z
UID:1135-1763164800-1763251199@buergerverein-bornholte.de
SUMMARY:Private Veranstaltung
DESCRIPTION:
URL:https://buergerverein-bornholte.de/veranstaltung/private-veranstaltung-24/
CATEGORIES:Intern
END:VEVENT
BEGIN:VEVENT
DTSTART;VALUE=DATE:20251122
DTEND;VALUE=DATE:20251123
DTSTAMP:20260422T002616
CREATED:20250617T133436Z
LAST-MODIFIED:20250617T133436Z
UID:1076-1763769600-1763855999@buergerverein-bornholte.de
SUMMARY:Private Veranstaltung
DESCRIPTION:
URL:https://buergerverein-bornholte.de/veranstaltung/private-veranstaltung-37/
END:VEVENT
BEGIN:VEVENT
DTSTART;VALUE=DATE:20251128
DTEND;VALUE=DATE:20251130
DTSTAMP:20260422T002616
CREATED:20250303T114309Z
LAST-MODIFIED:20250303T114312Z
UID:1012-1764288000-1764460799@buergerverein-bornholte.de
SUMMARY:Adventsmarkt
DESCRIPTION:
URL:https://buergerverein-bornholte.de/veranstaltung/adventsmarkt/
CATEGORIES:Intern
END:VEVENT
END:VCALENDAR