BEGIN:VCALENDAR
VERSION:2.0
PRODID:-//Buergerverein - ECPv6.15.20//NONSGML v1.0//EN
CALSCALE:GREGORIAN
METHOD:PUBLISH
X-ORIGINAL-URL:https://buergerverein-bornholte.de
X-WR-CALDESC:Veranstaltungen für Buergerverein
REFRESH-INTERVAL;VALUE=DURATION:PT1H
X-Robots-Tag:noindex
X-PUBLISHED-TTL:PT1H
BEGIN:VTIMEZONE
TZID:Europe/Berlin
BEGIN:DAYLIGHT
TZOFFSETFROM:+0100
TZOFFSETTO:+0200
TZNAME:CEST
DTSTART:20250330T010000
END:DAYLIGHT
BEGIN:STANDARD
TZOFFSETFROM:+0200
TZOFFSETTO:+0100
TZNAME:CET
DTSTART:20251026T010000
END:STANDARD
BEGIN:DAYLIGHT
TZOFFSETFROM:+0100
TZOFFSETTO:+0200
TZNAME:CEST
DTSTART:20260329T010000
END:DAYLIGHT
BEGIN:STANDARD
TZOFFSETFROM:+0200
TZOFFSETTO:+0100
TZNAME:CET
DTSTART:20261025T010000
END:STANDARD
BEGIN:DAYLIGHT
TZOFFSETFROM:+0100
TZOFFSETTO:+0200
TZNAME:CEST
DTSTART:20270328T010000
END:DAYLIGHT
BEGIN:STANDARD
TZOFFSETFROM:+0200
TZOFFSETTO:+0100
TZNAME:CET
DTSTART:20271031T010000
END:STANDARD
BEGIN:DAYLIGHT
TZOFFSETFROM:+0100
TZOFFSETTO:+0200
TZNAME:CEST
DTSTART:20280326T010000
END:DAYLIGHT
BEGIN:STANDARD
TZOFFSETFROM:+0200
TZOFFSETTO:+0100
TZNAME:CET
DTSTART:20281029T010000
END:STANDARD
END:VTIMEZONE
BEGIN:VEVENT
DTSTART;VALUE=DATE:20260801
DTEND;VALUE=DATE:20260803
DTSTAMP:20260421T143258
CREATED:20250713T072019Z
LAST-MODIFIED:20250713T072019Z
UID:1105-1785542400-1785715199@buergerverein-bornholte.de
SUMMARY:Private Veranstaltung
DESCRIPTION:
URL:https://buergerverein-bornholte.de/veranstaltung/private-veranstaltung-57/
END:VEVENT
BEGIN:VEVENT
DTSTART;TZID=Europe/Berlin:20260827T200000
DTEND;TZID=Europe/Berlin:20260827T213000
DTSTAMP:20260421T143258
CREATED:20251111T203127Z
LAST-MODIFIED:20251111T203127Z
UID:1171-1787860800-1787866200@buergerverein-bornholte.de
SUMMARY:Jahreshauptversammlung Bürgerverein Bornholte Bahnhof e.V.
DESCRIPTION:
URL:https://buergerverein-bornholte.de/veranstaltung/jahreshauptversammlung-buergerverein-bornholte-bahnhof-e-v/
END:VEVENT
BEGIN:VEVENT
DTSTART;VALUE=DATE:20260829
DTEND;VALUE=DATE:20260830
DTSTAMP:20260421T143258
CREATED:20260305T192159Z
LAST-MODIFIED:20260305T192159Z
UID:1318-1787961600-1788047999@buergerverein-bornholte.de
SUMMARY:Private Veranstaltung
DESCRIPTION:
URL:https://buergerverein-bornholte.de/veranstaltung/private-veranstaltung-76/
END:VEVENT
BEGIN:VEVENT
DTSTART;VALUE=DATE:20260911
DTEND;VALUE=DATE:20260912
DTSTAMP:20260421T143258
CREATED:20251111T203204Z
LAST-MODIFIED:20251111T203204Z
UID:1173-1789084800-1789171199@buergerverein-bornholte.de
SUMMARY:Private Veranstaltung
DESCRIPTION:
URL:https://buergerverein-bornholte.de/veranstaltung/private-veranstaltung-71/
END:VEVENT
BEGIN:VEVENT
DTSTART;VALUE=DATE:20260912
DTEND;VALUE=DATE:20260913
DTSTAMP:20260421T143258
CREATED:20250617T134306Z
LAST-MODIFIED:20250617T134306Z
UID:1086-1789171200-1789257599@buergerverein-bornholte.de
SUMMARY:Private Veranstaltung
DESCRIPTION:
URL:https://buergerverein-bornholte.de/veranstaltung/private-veranstaltung-52/
END:VEVENT
BEGIN:VEVENT
DTSTART;VALUE=DATE:20260919
DTEND;VALUE=DATE:20260920
DTSTAMP:20260421T143258
CREATED:20251111T203240Z
LAST-MODIFIED:20251111T203240Z
UID:1175-1789776000-1789862399@buergerverein-bornholte.de
SUMMARY:Private Veranstaltung
DESCRIPTION:
URL:https://buergerverein-bornholte.de/veranstaltung/private-veranstaltung-72/
END:VEVENT
BEGIN:VEVENT
DTSTART;VALUE=DATE:20260920
DTEND;VALUE=DATE:20260921
DTSTAMP:20260421T143258
CREATED:20251111T203339Z
LAST-MODIFIED:20251111T204525Z
UID:1177-1789862400-1789948799@buergerverein-bornholte.de
SUMMARY:Apfelpresstag Hof DIekämper - natürlich leben und lernen e.V.
DESCRIPTION:
URL:https://buergerverein-bornholte.de/veranstaltung/apfelpresstag-hof-diekaemper-natuerlich-leben-und-lernen-e-v/
END:VEVENT
BEGIN:VEVENT
DTSTART;VALUE=DATE:20260927
DTEND;VALUE=DATE:20260928
DTSTAMP:20260421T143258
CREATED:20250901T154127Z
LAST-MODIFIED:20251111T205145Z
UID:1129-1790467200-1790553599@buergerverein-bornholte.de
SUMMARY:Kinderkram Flohmarkt Förderverein Sankt Martin Kindergarten Bornholte
DESCRIPTION:
URL:https://buergerverein-bornholte.de/veranstaltung/private-veranstaltung-63/
CATEGORIES:Intern
END:VEVENT
BEGIN:VEVENT
DTSTART;VALUE=DATE:20261003
DTEND;VALUE=DATE:20261005
DTSTAMP:20260421T143258
CREATED:20260305T195031Z
LAST-MODIFIED:20260305T195031Z
UID:1322-1790985600-1791158399@buergerverein-bornholte.de
SUMMARY:Private Veranstaltung
DESCRIPTION:
URL:https://buergerverein-bornholte.de/veranstaltung/private-veranstaltung-77/
END:VEVENT
BEGIN:VEVENT
DTSTART;VALUE=DATE:20261017
DTEND;VALUE=DATE:20261018
DTSTAMP:20260421T143258
CREATED:20251111T203413Z
LAST-MODIFIED:20251111T203413Z
UID:1179-1792195200-1792281599@buergerverein-bornholte.de
SUMMARY:Private Veranstaltung
DESCRIPTION:
URL:https://buergerverein-bornholte.de/veranstaltung/private-veranstaltung-73/
END:VEVENT
BEGIN:VEVENT
DTSTART;VALUE=DATE:20261024
DTEND;VALUE=DATE:20261026
DTSTAMP:20260421T143258
CREATED:20251111T203440Z
LAST-MODIFIED:20251111T203440Z
UID:1181-1792800000-1792972799@buergerverein-bornholte.de
SUMMARY:Kunst- und Kreativmarkt
DESCRIPTION:
URL:https://buergerverein-bornholte.de/veranstaltung/kunst-und-kreativmarkt-3/
END:VEVENT
BEGIN:VEVENT
DTSTART;TZID=Europe/Berlin:20261110T171500
DTEND;TZID=Europe/Berlin:20261110T200000
DTSTAMP:20260421T143258
CREATED:20251111T203526Z
LAST-MODIFIED:20251111T203729Z
UID:1183-1794330900-1794340800@buergerverein-bornholte.de
SUMMARY:Sankt Martins Umzug
DESCRIPTION:
URL:https://buergerverein-bornholte.de/veranstaltung/sankt-martins-umzug/
END:VEVENT
BEGIN:VEVENT
DTSTART;VALUE=DATE:20261121
DTEND;VALUE=DATE:20261123
DTSTAMP:20260421T143258
CREATED:20250804T170210Z
LAST-MODIFIED:20250804T170210Z
UID:1119-1795219200-1795391999@buergerverein-bornholte.de
SUMMARY:Private Veranstaltung
DESCRIPTION:
URL:https://buergerverein-bornholte.de/veranstaltung/private-veranstaltung-60/
END:VEVENT
BEGIN:VEVENT
DTSTART;VALUE=DATE:20261127
DTEND;VALUE=DATE:20261129
DTSTAMP:20260421T143258
CREATED:20251111T203606Z
LAST-MODIFIED:20251111T203606Z
UID:1185-1795737600-1795910399@buergerverein-bornholte.de
SUMMARY:Adventsmarkt 2026
DESCRIPTION:
URL:https://buergerverein-bornholte.de/veranstaltung/adventsmarkt-2026/
END:VEVENT
BEGIN:VEVENT
DTSTART;VALUE=DATE:20261213
DTEND;VALUE=DATE:20261214
DTSTAMP:20260421T143258
CREATED:20260131T120310Z
LAST-MODIFIED:20260131T120310Z
UID:1225-1797120000-1797206399@buergerverein-bornholte.de
SUMMARY:BSV-Seniorenadvent
DESCRIPTION:
URL:https://buergerverein-bornholte.de/veranstaltung/bsv-seniorenadvent/
CATEGORIES:Intern
END:VEVENT
BEGIN:VEVENT
DTSTART;VALUE=DATE:20261224
DTEND;VALUE=DATE:20261228
DTSTAMP:20260421T143258
CREATED:20251122T125402Z
LAST-MODIFIED:20251122T125402Z
UID:1205-1798070400-1798415999@buergerverein-bornholte.de
SUMMARY:Private Veranstaltung
DESCRIPTION:
URL:https://buergerverein-bornholte.de/veranstaltung/private-veranstaltung-74/
END:VEVENT
BEGIN:VEVENT
DTSTART;VALUE=DATE:20270313
DTEND;VALUE=DATE:20270315
DTSTAMP:20260421T143258
CREATED:20260304T195545Z
LAST-MODIFIED:20260304T195545Z
UID:1307-1804896000-1805068799@buergerverein-bornholte.de
SUMMARY:Kreativmarkt
DESCRIPTION:
URL:https://buergerverein-bornholte.de/veranstaltung/kreativmarkt-2/
CATEGORIES:Intern
END:VEVENT
BEGIN:VEVENT
DTSTART;VALUE=DATE:20270618
DTEND;VALUE=DATE:20270620
DTSTAMP:20260421T143258
CREATED:20260305T192520Z
LAST-MODIFIED:20260305T192520Z
UID:1320-1813276800-1813449599@buergerverein-bornholte.de
SUMMARY:Private Veranstaltungen
DESCRIPTION:
URL:https://buergerverein-bornholte.de/veranstaltung/private-veranstaltungen/
END:VEVENT
BEGIN:VEVENT
DTSTART;VALUE=DATE:20270911
DTEND;VALUE=DATE:20270912
DTSTAMP:20260421T143258
CREATED:20260305T190039Z
LAST-MODIFIED:20260305T190039Z
UID:1316-1820620800-1820707199@buergerverein-bornholte.de
SUMMARY:Private Veranstaltung
DESCRIPTION:
URL:https://buergerverein-bornholte.de/veranstaltung/private-veranstaltung-75/
END:VEVENT
BEGIN:VEVENT
DTSTART;VALUE=DATE:20271023
DTEND;VALUE=DATE:20271025
DTSTAMP:20260421T143258
CREATED:20260304T200328Z
LAST-MODIFIED:20260304T200328Z
UID:1309-1824249600-1824422399@buergerverein-bornholte.de
SUMMARY:Kreativmarkt
DESCRIPTION:
URL:https://buergerverein-bornholte.de/veranstaltung/kreativmarkt-3/
CATEGORIES:Intern
END:VEVENT
BEGIN:VEVENT
DTSTART;VALUE=DATE:20271030
DTEND;VALUE=DATE:20271101
DTSTAMP:20260421T143258
CREATED:20260305T195148Z
LAST-MODIFIED:20260305T195148Z
UID:1324-1824854400-1825027199@buergerverein-bornholte.de
SUMMARY:Private Veranstaltung
DESCRIPTION:
URL:https://buergerverein-bornholte.de/veranstaltung/private-veranstaltung-78/
END:VEVENT
END:VCALENDAR